BEGIN:VCALENDAR
VERSION:2.0
PRODID:-//https://berwick.ca//NONSGML kigkonsult.se iCalcreator 2.29.29//
CALSCALE:GREGORIAN
METHOD:PUBLISH
UID:4620804a-edf0-4853-bbe4-fcaaaa23835a
X-WR-CALNAME:JCal Pro Calendar
X-WR-CALDESC:Your online events calendar
X-WR-TIMEZONE:America/Halifax
BEGIN:VTIMEZONE
TZID:America/Halifax
BEGIN:STANDARD
TZNAME:AST
DTSTART:20251102T020000
TZOFFSETFROM:-0300
TZOFFSETTO:-0400
RDATE:20261101T020000
END:STANDARD
BEGIN:DAYLIGHT
TZNAME:ADT
DTSTART:20260308T020000
TZOFFSETFROM:-0400
TZOFFSETTO:-0300
RDATE:20270314T020000
END:DAYLIGHT
END:VTIMEZONE
BEGIN:VEVENT
UID:20220430T080000ADT-6098VNk6M6@https://www.berwick.ca/
DTSTAMP:20260421T081930Z
CATEGORIES:Special Events
DESCRIPTION:<p>Fundraiser for local Ukraine Families<o:p></o:p></p>\n<p>TOB
  and Union St are pairing up with local Talent Hunter Bushell for an eveni
 ng of music on the Union Street Stage.&nbsp\;<o:p></o:p></p>\n<p>Evening o
 f Saturday April 30th&nbsp\;<o:p></o:p></p>\n<p>Free will donation at the 
 door&nbsp\;<o:p></o:p></p>\n<p>All proceeds going to the Ukraine Families 
 Staying here in Berwick&nbsp\;<o:p></o:p></p>\n<p><a href='https://www.sal
 twire.com/atlantic-canada/communities/berwick-ns-families-open-their-heart
 s-home-to-welcome-ukrainian-refugees-100720444/'></a><a href='https://www.
 saltwire.com/atlantic-canada/communities/berwick-ns-families-open-their-he
 arts-home-to-welcome-ukrainian-refugees-100720444/'>https://www.saltwire.c
 om/atlantic-canada/communities/berwick-ns-families-open-their-hearts-home-
 to-welcome-ukrainian-refugees-100720444/</a><o:p></o:p></p>
DTSTART;TZID=America/Halifax:20220430T000000
DTEND;TZID=America/Halifax:20220430T235959
SUMMARY:Fundraiser for Berwick Ukraine Families
URL:https://berwick.ca/17-special-events/629-fundraiser-for-berwick-ukraine
 -families.html
X-ALT-DESC;FMTTYPE=TEXT/HTML:<p>Fundraiser for local Ukraine Families<o:p><
 /o:p></p>\n<p>TOB and Union St are pairing up with local Talent Hunter Bus
 hell for an evening of music on the Union Street Stage.&nbsp\;<o:p></o:p><
 /p>\n<p>Evening of Saturday April 30th&nbsp\;<o:p></o:p></p>\n<p>Free will
  donation at the door&nbsp\;<o:p></o:p></p>\n<p>All proceeds going to the 
 Ukraine Families Staying here in Berwick&nbsp\;<o:p></o:p></p>\n<p><a href
 ='https://www.saltwire.com/atlantic-canada/communities/berwick-ns-families
 -open-their-hearts-home-to-welcome-ukrainian-refugees-100720444/'></a><a h
 ref='https://www.saltwire.com/atlantic-canada/communities/berwick-ns-famil
 ies-open-their-hearts-home-to-welcome-ukrainian-refugees-100720444/'>https
 ://www.saltwire.com/atlantic-canada/communities/berwick-ns-families-open-t
 heir-hearts-home-to-welcome-ukrainian-refugees-100720444/</a><o:p></o:p></
 p>
END:VEVENT
END:VCALENDAR
