BEGIN:VCALENDAR
VERSION:2.0
PRODID:-//https://berwick.ca//NONSGML kigkonsult.se iCalcreator 2.29.29//
CALSCALE:GREGORIAN
METHOD:PUBLISH
UID:6651ff3d-09c3-4152-a2be-52e74eccd988
X-WR-CALNAME:JCal Pro Calendar
X-WR-CALDESC:Your online events calendar
X-WR-TIMEZONE:America/Halifax
BEGIN:VTIMEZONE
TZID:America/Halifax
BEGIN:STANDARD
TZNAME:AST
DTSTART:20251102T020000
TZOFFSETFROM:-0300
TZOFFSETTO:-0400
RDATE:20261101T020000
END:STANDARD
BEGIN:DAYLIGHT
TZNAME:ADT
DTSTART:20260308T020000
TZOFFSETFROM:-0400
TZOFFSETTO:-0300
RDATE:20270314T020000
END:DAYLIGHT
END:VTIMEZONE
BEGIN:VEVENT
UID:20200701T080000ADT-8132VkBMAM@http://berwick.mwvdev.info/
DTSTAMP:20260424T183926Z
CATEGORIES:Holidays
DTSTART;TZID=America/Halifax:20200701T000000
DTEND;TZID=America/Halifax:20200701T235959
SUMMARY:Canada Day
URL:https://berwick.ca/19-holidays/10-canada-day.html
END:VEVENT
END:VCALENDAR
